BEGIN:VCALENDAR
VERSION:2.0
PRODID:-//Hub Souren - ECPv6.15.20//NONSGML v1.0//EN
CALSCALE:GREGORIAN
METHOD:PUBLISH
X-WR-CALNAME:Hub Souren
X-ORIGINAL-URL:https://familieopstellingen-hubsouren.nl
X-WR-CALDESC:Evenementen voor Hub Souren
REFRESH-INTERVAL;VALUE=DURATION:PT1H
X-Robots-Tag:noindex
X-PUBLISHED-TTL:PT1H
BEGIN:VTIMEZONE
TZID:Europe/Amsterdam
BEGIN:DAYLIGHT
TZOFFSETFROM:+0100
TZOFFSETTO:+0200
TZNAME:CEST
DTSTART:20240331T010000
END:DAYLIGHT
BEGIN:STANDARD
TZOFFSETFROM:+0200
TZOFFSETTO:+0100
TZNAME:CET
DTSTART:20241027T010000
END:STANDARD
BEGIN:DAYLIGHT
TZOFFSETFROM:+0100
TZOFFSETTO:+0200
TZNAME:CEST
DTSTART:20250330T010000
END:DAYLIGHT
BEGIN:STANDARD
TZOFFSETFROM:+0200
TZOFFSETTO:+0100
TZNAME:CET
DTSTART:20251026T010000
END:STANDARD
BEGIN:DAYLIGHT
TZOFFSETFROM:+0100
TZOFFSETTO:+0200
TZNAME:CEST
DTSTART:20260329T010000
END:DAYLIGHT
BEGIN:STANDARD
TZOFFSETFROM:+0200
TZOFFSETTO:+0100
TZNAME:CET
DTSTART:20261025T010000
END:STANDARD
END:VTIMEZONE
BEGIN:VEVENT
DTSTART;TZID=Europe/Amsterdam:20250124T183000
DTEND;TZID=Europe/Amsterdam:20250124T230000
DTSTAMP:20260424T225241
CREATED:20241128T080915Z
LAST-MODIFIED:20250123T163809Z
UID:850-1737743400-1737759600@familieopstellingen-hubsouren.nl
SUMMARY:Familie en organisatie opstellingen
DESCRIPTION:Familie en organisatieopstellingen op een vrijdagavond zijn op vrijdag 24 januari\, aanvang 18.30 uur\, kosten 25 euro en 50 euro als je een eigen opstelling wilt. Op een avond worden drie opstellingen gedaan. Deze opstellingen worden in Geleen gehouden \,er is  geen plaats vrij als representant. Deze avond is vol\nAls je wilt meedoen\, geef je dan zo snel mogelijk op. Ik wil je vragen het bedrag over te maken op mijn rekening\, na aanbetaling krijg je een bevestiging van deelname. Rek. no. NL68 RABO 0146089464\nWil je nog meer informatie bel me dan even.\, ben het makkelijkste te bereiken rond 9:00 uur en rond 17:00 uur en na 21:00 uur. Telefoonnummer: 045-5322922 of 0629232932.\nMvg\nHub Souren
URL:https://familieopstellingen-hubsouren.nl/event/familie-en-organisatie-opstellingen/
LOCATION:Bij mij Thuis\, Geleen\, Nederland
END:VEVENT
END:VCALENDAR